BEGIN:VCALENDAR
VERSION:2.0
PRODID:icalendar-ruby
CALSCALE:GREGORIAN
METHOD:PUBLISH
BEGIN:VEVENT
DTSTAMP:20260419T234808Z
UID:5-411131@antiochumconline.com
DTSTART:20260920T170000Z
DTEND:20260920T180000Z
CLASS:PUBLIC
CREATED:20260419T135527
DESCRIPTION:Sunday Worship
LAST-MODIFIED:20260419T135527
LOCATION:
SUMMARY:Sunday Worship
URL;VALUE=URI:https://antiochumconline.com/events/sunday-worship/2026-09-20
END:VEVENT
END:VCALENDAR
