BEGIN:VCALENDAR
VERSION:2.0
PRODID:icalendar-ruby
CALSCALE:GREGORIAN
METHOD:PUBLISH
BEGIN:VEVENT
DTSTAMP:20260420T041840Z
UID:5-411734@antiochumconline.com
DTSTART:20261011T170000Z
DTEND:20261011T180000Z
CLASS:PUBLIC
CREATED:20260419T211426
DESCRIPTION:Sunday Worship
LAST-MODIFIED:20260419T211426
LOCATION:
SUMMARY:Sunday Worship
URL;VALUE=URI:https://antiochumconline.com/events/sunday-worship/2026-10-11
END:VEVENT
END:VCALENDAR
