BEGIN:VCALENDAR
VERSION:2.0
PRODID:icalendar-ruby
CALSCALE:GREGORIAN
METHOD:PUBLISH
BEGIN:VEVENT
DTSTAMP:20260422T081957Z
UID:5-415637@antiochumconline.com
DTSTART:20261101T180000Z
DTEND:20261101T190000Z
CLASS:PUBLIC
CREATED:20260421T183621
DESCRIPTION:Sunday Worship
LAST-MODIFIED:20260421T183621
LOCATION:
SUMMARY:Sunday Worship
URL;VALUE=URI:https://antiochumconline.com/events/sunday-worship/2026-11-01
END:VEVENT
END:VCALENDAR
